Package: MethReg Version: 1.17.0 Command: /home/biocbuild/bbs-3.21-bioc/R/bin/R CMD check --install=check:MethReg.install-out.txt --library=/home/biocbuild/bbs-3.21-bioc/R/site-library --timings MethReg_1.17.0.tar.gz StartedAt: 2025-02-19 23:52:43 -0500 (Wed, 19 Feb 2025) EndedAt: 2025-02-20 00:08:47 -0500 (Thu, 20 Feb 2025) EllapsedTime: 964.2 seconds RetCode: 0 Status: OK CheckDir: MethReg.Rcheck Warnings: 0