Package: MethReg Version: 1.17.0 Command: rm -rf MethReg.buildbin-libdir && mkdir MethReg.buildbin-libdir && /Users/biocbuild/BBS/utils/build-universal.sh MethReg_1.17.0.tar.gz /Library/Frameworks/R.framework/Resources/bin/R MethReg.buildbin-libdir StartedAt: 2025-02-21 00:39:16 -0500 (Fri, 21 Feb 2025) EndedAt: 2025-02-21 00:40:28 -0500 (Fri, 21 Feb 2025) EllapsedTime: 71.6 seconds RetCode: 0 Status: OK PackageFile: MethReg_1.17.0.tgz PackageFileSize: 4.513 MiB