Package: MethReg Version: 1.17.0 Command: /Library/Frameworks/R.framework/Resources/bin/R CMD INSTALL MethReg StartedAt: 2025-02-20 15:27:51 -0500 (Thu, 20 Feb 2025) EndedAt: 2025-02-20 15:28:13 -0500 (Thu, 20 Feb 2025) EllapsedTime: 21.5 seconds RetCode: 0 Status: OK