Package: MethReg Version: 1.17.0 Command: /Library/Frameworks/R.framework/Resources/bin/R CMD check --install=check:MethReg.install-out.txt --library=/Library/Frameworks/R.framework/Resources/library --no-vignettes --timings MethReg_1.17.0.tar.gz StartedAt: 2025-02-20 20:05:40 -0500 (Thu, 20 Feb 2025) EndedAt: 2025-02-20 20:08:31 -0500 (Thu, 20 Feb 2025) EllapsedTime: 171.9 seconds RetCode: 0 Status: OK CheckDir: MethReg.Rcheck Warnings: 0