Package: MethPed Version: 1.35.0 Command: E:\biocbuild\bbs-3.21-bioc\R\bin\R.exe CMD INSTALL MethPed StartedAt: 2025-02-20 15:52:40 -0500 (Thu, 20 Feb 2025) EndedAt: 2025-02-20 15:52:53 -0500 (Thu, 20 Feb 2025) EllapsedTime: 13.6 seconds RetCode: 0 Status: OK