Package: MethPed Version: 1.35.0 Command: E:\biocbuild\bbs-3.21-bioc\R\bin\R.exe CMD check --no-multiarch --install=check:MethPed.install-out.txt --library=E:\biocbuild\bbs-3.21-bioc\R\library --no-vignettes --timings MethPed_1.35.0.tar.gz StartedAt: 2025-02-21 03:03:54 -0500 (Fri, 21 Feb 2025) EndedAt: 2025-02-21 03:07:13 -0500 (Fri, 21 Feb 2025) EllapsedTime: 198.3 seconds RetCode: 0 Status: OK CheckDir: MethPed.Rcheck Warnings: 0