Package: MethPed Version: 1.35.0 Command: /Library/Frameworks/R.framework/Resources/bin/R CMD build --keep-empty-dirs --no-resave-data MethPed StartedAt: 2025-02-20 17:16:29 -0500 (Thu, 20 Feb 2025) EndedAt: 2025-02-20 17:18:14 -0500 (Thu, 20 Feb 2025) EllapsedTime: 105.0 seconds RetCode: 0 Status: OK PackageFile: MethPed_1.35.0.tar.gz PackageFileSize: 9.29 MiB