Package: MetaboDynamics Version: 0.99.20 Command: E:\biocbuild\bbs-3.21-bioc\R\bin\R.exe CMD check --no-multiarch --install=check:MetaboDynamics.install-out.txt --library=E:\biocbuild\bbs-3.21-bioc\R\library --no-vignettes --timings MetaboDynamics_0.99.20.tar.gz StartedAt: 2025-02-19 02:38:37 -0500 (Wed, 19 Feb 2025) EndedAt: 2025-02-19 02:47:33 -0500 (Wed, 19 Feb 2025) EllapsedTime: 536.0 seconds RetCode: 0 Status: OK CheckDir: MetaboDynamics.Rcheck Warnings: 0