Package: MetaboDynamics Version: 0.99.20 Command: chmod a+r MetaboDynamics -R && E:\biocbuild\bbs-3.21-bioc\R\bin\R.exe CMD build --keep-empty-dirs --no-resave-data MetaboDynamics StartedAt: 2025-02-18 19:43:46 -0500 (Tue, 18 Feb 2025) EndedAt: 2025-02-18 19:52:42 -0500 (Tue, 18 Feb 2025) EllapsedTime: 535.2 seconds RetCode: 0 Status: OK PackageFile: MetaboDynamics_0.99.20.tar.gz PackageFileSize: 2.349 MiB