Package: MetaboDynamics Version: 0.99.20 Command: rm -rf MetaboDynamics.buildbin-libdir && mkdir MetaboDynamics.buildbin-libdir && E:\biocbuild\bbs-3.21-bioc\R\bin\R.exe CMD INSTALL --build --library=MetaboDynamics.buildbin-libdir MetaboDynamics_0.99.20.tar.gz StartedAt: 2025-02-20 08:08:10 -0500 (Thu, 20 Feb 2025) EndedAt: 2025-02-20 08:17:52 -0500 (Thu, 20 Feb 2025) EllapsedTime: 582.5 seconds RetCode: 0 Status: OK PackageFile: MetaboDynamics_0.99.20.zip PackageFileSize: 3.402 MiB