Package: MetaboDynamics Version: 0.99.20 Command: /home/biocbuild/bbs-3.21-bioc/R/bin/R CMD check --install=check:MetaboDynamics.install-out.txt --library=/home/biocbuild/bbs-3.21-bioc/R/site-library --timings MetaboDynamics_0.99.20.tar.gz StartedAt: 2025-02-17 23:39:49 -0500 (Mon, 17 Feb 2025) EndedAt: 2025-02-17 23:48:12 -0500 (Mon, 17 Feb 2025) EllapsedTime: 502.6 seconds RetCode: 0 Status: OK CheckDir: MetaboDynamics.Rcheck Warnings: 0