Package: MetaboDynamics Version: 0.99.20 Command: rm -rf MetaboDynamics.buildbin-libdir && mkdir MetaboDynamics.buildbin-libdir && /Users/biocbuild/BBS/utils/build-universal.sh MetaboDynamics_0.99.20.tar.gz /Library/Frameworks/R.framework/Resources/bin/R MetaboDynamics.buildbin-libdir StartedAt: 2025-02-20 00:40:11 -0500 (Thu, 20 Feb 2025) EndedAt: 2025-02-20 00:43:52 -0500 (Thu, 20 Feb 2025) EllapsedTime: 220.8 seconds RetCode: 0 Status: OK PackageFile: MetaboDynamics_0.99.20.tgz PackageFileSize: 5.859 MiB