Package: MetaboDynamics Version: 0.99.20 Command: /Library/Frameworks/R.framework/Resources/bin/R CMD INSTALL MetaboDynamics StartedAt: 2025-02-17 15:06:19 -0500 (Mon, 17 Feb 2025) EndedAt: 2025-02-17 15:07:15 -0500 (Mon, 17 Feb 2025) EllapsedTime: 56.8 seconds RetCode: 0 Status: OK