Package: MetaboDynamics Version: 0.99.20 Command: /Library/Frameworks/R.framework/Resources/bin/R CMD check --install=check:MetaboDynamics.install-out.txt --library=/Library/Frameworks/R.framework/Resources/library --no-vignettes --timings MetaboDynamics_0.99.20.tar.gz StartedAt: 2025-02-17 20:02:39 -0500 (Mon, 17 Feb 2025) EndedAt: 2025-02-17 20:05:13 -0500 (Mon, 17 Feb 2025) EllapsedTime: 154.8 seconds RetCode: 0 Status: OK CheckDir: MetaboDynamics.Rcheck Warnings: 0