Package: MetaboDynamics Version: 0.99.20 Command: /Library/Frameworks/R.framework/Resources/bin/R CMD build --keep-empty-dirs --no-resave-data MetaboDynamics StartedAt: 2025-02-17 16:50:02 -0500 (Mon, 17 Feb 2025) EndedAt: 2025-02-17 16:51:50 -0500 (Mon, 17 Feb 2025) EllapsedTime: 108.2 seconds RetCode: 0 Status: OK PackageFile: MetaboDynamics_0.99.20.tar.gz PackageFileSize: 4.952 MiB