Package: MetaboDynamics Version: 0.99.20 Command: rm -rf MetaboDynamics.buildbin-libdir && mkdir MetaboDynamics.buildbin-libdir && /Users/biocbuild/BBS/utils/build-universal.sh MetaboDynamics_0.99.20.tar.gz /Library/Frameworks/R.framework/Resources/bin/R MetaboDynamics.buildbin-libdir StartedAt: 2025-02-17 22:23:21 -0500 (Mon, 17 Feb 2025) EndedAt: 2025-02-17 22:24:22 -0500 (Mon, 17 Feb 2025) EllapsedTime: 60.2 seconds RetCode: 0 Status: OK PackageFile: MetaboDynamics_0.99.20.tgz PackageFileSize: 5.734 MiB