Package: MetaboDynamics Version: 0.99.18 Maintainer: Katja Danielzik MaintainerEmail: katja.danielzik at uni-due.de git_url: https://git.bioconductor.org/packages/MetaboDynamics git_branch: devel git_last_commit: af5ed5a git_last_commit_date: 2025-02-03 06:35:34 -0500 (Mon, 03 Feb 2025)