Package: MetaboCoreUtils Version: 1.15.0 Command: rm -rf MetaboCoreUtils.buildbin-libdir && mkdir MetaboCoreUtils.buildbin-libdir && E:\biocbuild\bbs-3.21-bioc\R\bin\R.exe CMD INSTALL --build --library=MetaboCoreUtils.buildbin-libdir MetaboCoreUtils_1.15.0.tar.gz StartedAt: 2025-02-18 07:42:17 -0500 (Tue, 18 Feb 2025) EndedAt: 2025-02-18 07:43:02 -0500 (Tue, 18 Feb 2025) EllapsedTime: 44.8 seconds RetCode: 0 Status: OK PackageFile: MetaboCoreUtils_1.15.0.zip PackageFileSize: 795 KiB