Package: MetaboCoreUtils Version: 1.15.0 Command: /home/biocbuild/bbs-3.21-bioc/R/bin/R CMD INSTALL MetaboCoreUtils StartedAt: 2025-02-17 15:13:04 -0500 (Mon, 17 Feb 2025) EndedAt: 2025-02-17 15:13:11 -0500 (Mon, 17 Feb 2025) EllapsedTime: 7.3 seconds RetCode: 0 Status: OK