Package: MetaboCoreUtils Version: 1.15.0 Command: /home/biocbuild/bbs-3.21-bioc/R/bin/R CMD build --keep-empty-dirs --no-resave-data MetaboCoreUtils StartedAt: 2025-02-17 17:56:05 -0500 (Mon, 17 Feb 2025) EndedAt: 2025-02-17 17:56:19 -0500 (Mon, 17 Feb 2025) EllapsedTime: 14.0 seconds RetCode: 0 Status: OK PackageFile: MetaboCoreUtils_1.15.0.tar.gz PackageFileSize: 1.278 MiB