Package: MetaboCoreUtils Version: 1.16.1 Command: /Library/Frameworks/R.framework/Resources/bin/R CMD build --keep-empty-dirs --no-resave-data MetaboCoreUtils StartedAt: 2025-10-13 20:20:43 -0400 (Mon, 13 Oct 2025) EndedAt: 2025-10-13 20:21:13 -0400 (Mon, 13 Oct 2025) EllapsedTime: 30.6 seconds RetCode: 0 Status: OK PackageFile: MetaboCoreUtils_1.16.1.tar.gz PackageFileSize: 1.01 MiB