Package: MetaboCoreUtils Version: 1.15.0 Command: /Library/Frameworks/R.framework/Resources/bin/R CMD check --install=check:MetaboCoreUtils.install-out.txt --library=/Library/Frameworks/R.framework/Resources/library --no-vignettes --timings MetaboCoreUtils_1.15.0.tar.gz StartedAt: 2025-02-17 21:23:51 -0500 (Mon, 17 Feb 2025) EndedAt: 2025-02-17 21:24:55 -0500 (Mon, 17 Feb 2025) EllapsedTime: 64.3 seconds RetCode: 0 Status: OK CheckDir: MetaboCoreUtils.Rcheck Warnings: 0