Package: MetaboCoreUtils Version: 1.16.1 Command: /Library/Frameworks/R.framework/Resources/bin/R CMD INSTALL MetaboCoreUtils StartedAt: 2025-10-13 15:39:07 -0400 (Mon, 13 Oct 2025) EndedAt: 2025-10-13 15:39:15 -0400 (Mon, 13 Oct 2025) EllapsedTime: 7.3 seconds RetCode: 0 Status: OK