Package: MetaboCoreUtils Version: 1.16.1 Command: /Library/Frameworks/R.framework/Resources/bin/R CMD build --keep-empty-dirs --no-resave-data MetaboCoreUtils StartedAt: 2025-10-14 03:43:42 -0400 (Tue, 14 Oct 2025) EndedAt: 2025-10-14 03:44:02 -0400 (Tue, 14 Oct 2025) EllapsedTime: 20.1 seconds RetCode: 0 Status: OK PackageFile: MetaboCoreUtils_1.16.1.tar.gz PackageFileSize: 1.011 MiB