Package: MetaboAnnotation Version: 1.11.1 Command: /home/biocbuild/bbs-3.21-bioc/R/bin/R CMD check --install=check:MetaboAnnotation.install-out.txt --library=/home/biocbuild/bbs-3.21-bioc/R/site-library --timings MetaboAnnotation_1.11.1.tar.gz StartedAt: 2025-02-17 23:39:41 -0500 (Mon, 17 Feb 2025) EndedAt: 2025-02-17 23:45:52 -0500 (Mon, 17 Feb 2025) EllapsedTime: 370.5 seconds RetCode: 0 Status: OK CheckDir: MetaboAnnotation.Rcheck Warnings: 0