Package: MetaboAnnotation Version: 1.11.1 Command: /Library/Frameworks/R.framework/Resources/bin/R CMD INSTALL MetaboAnnotation StartedAt: 2025-02-17 15:26:30 -0500 (Mon, 17 Feb 2025) EndedAt: 2025-02-17 15:26:46 -0500 (Mon, 17 Feb 2025) EllapsedTime: 16.1 seconds RetCode: 0 Status: OK