Package: MetaboAnnotation Version: 1.11.1 Command: /Library/Frameworks/R.framework/Resources/bin/R CMD build --keep-empty-dirs --no-resave-data MetaboAnnotation StartedAt: 2025-02-17 16:49:52 -0500 (Mon, 17 Feb 2025) EndedAt: 2025-02-17 16:50:33 -0500 (Mon, 17 Feb 2025) EllapsedTime: 40.5 seconds RetCode: 0 Status: OK PackageFile: MetaboAnnotation_1.11.1.tar.gz PackageFileSize: 1.25 MiB