Package: MetaCyto Version: 1.29.0 Command: E:\biocbuild\bbs-3.21-bioc\R\bin\R.exe CMD check --no-multiarch --install=check:MetaCyto.install-out.txt --library=E:\biocbuild\bbs-3.21-bioc\R\library --no-vignettes --timings MetaCyto_1.29.0.tar.gz StartedAt: 2025-02-21 03:00:46 -0500 (Fri, 21 Feb 2025) EndedAt: 2025-02-21 03:09:10 -0500 (Fri, 21 Feb 2025) EllapsedTime: 503.6 seconds RetCode: 0 Status: OK CheckDir: MetaCyto.Rcheck Warnings: 0