Package: MetaCyto Version: 1.29.0 Command: chmod a+r MetaCyto -R && E:\biocbuild\bbs-3.21-bioc\R\bin\R.exe CMD build --keep-empty-dirs --no-resave-data MetaCyto StartedAt: 2025-02-20 19:49:51 -0500 (Thu, 20 Feb 2025) EndedAt: 2025-02-20 19:55:50 -0500 (Thu, 20 Feb 2025) EllapsedTime: 359.5 seconds RetCode: 0 Status: OK PackageFile: MetaCyto_1.29.0.tar.gz PackageFileSize: 965.8 KiB