Package: MetaCyto Version: 1.29.0 Command: rm -rf MetaCyto.buildbin-libdir && mkdir MetaCyto.buildbin-libdir && E:\biocbuild\bbs-3.21-bioc\R\bin\R.exe CMD INSTALL --build --library=MetaCyto.buildbin-libdir MetaCyto_1.29.0.tar.gz StartedAt: 2025-02-21 08:29:51 -0500 (Fri, 21 Feb 2025) EndedAt: 2025-02-21 08:30:28 -0500 (Fri, 21 Feb 2025) EllapsedTime: 36.8 seconds RetCode: 0 Status: OK PackageFile: MetaCyto_1.29.0.zip PackageFileSize: 1.033 MiB