Package: MetaCyto Version: 1.29.0 Command: /home/biocbuild/bbs-3.21-bioc/R/bin/R CMD INSTALL MetaCyto StartedAt: 2025-02-20 15:22:58 -0500 (Thu, 20 Feb 2025) EndedAt: 2025-02-20 15:23:11 -0500 (Thu, 20 Feb 2025) EllapsedTime: 12.3 seconds RetCode: 0 Status: OK