Package: MetaCyto Version: 1.29.0 Command: /home/biocbuild/bbs-3.21-bioc/R/bin/R CMD check --install=check:MetaCyto.install-out.txt --library=/home/biocbuild/bbs-3.21-bioc/R/site-library --timings MetaCyto_1.29.0.tar.gz StartedAt: 2025-02-20 23:25:32 -0500 (Thu, 20 Feb 2025) EndedAt: 2025-02-20 23:33:52 -0500 (Thu, 20 Feb 2025) EllapsedTime: 499.6 seconds RetCode: 0 Status: OK CheckDir: MetaCyto.Rcheck Warnings: 0