Package: MetaCyto Version: 1.29.0 Command: /Library/Frameworks/R.framework/Resources/bin/R CMD build --keep-empty-dirs --no-resave-data MetaCyto StartedAt: 2025-02-21 16:50:59 -0500 (Fri, 21 Feb 2025) EndedAt: 2025-02-21 16:53:01 -0500 (Fri, 21 Feb 2025) EllapsedTime: 122.3 seconds RetCode: 0 Status: OK PackageFile: MetaCyto_1.29.0.tar.gz PackageFileSize: 1.028 MiB