Package: MetaCyto Version: 1.29.0 Command: rm -rf MetaCyto.buildbin-libdir && mkdir MetaCyto.buildbin-libdir && /Users/biocbuild/BBS/utils/build-universal.sh MetaCyto_1.29.0.tar.gz /Library/Frameworks/R.framework/Resources/bin/R MetaCyto.buildbin-libdir StartedAt: 2025-02-21 23:02:19 -0500 (Fri, 21 Feb 2025) EndedAt: 2025-02-21 23:02:26 -0500 (Fri, 21 Feb 2025) EllapsedTime: 6.2 seconds RetCode: 0 Status: OK PackageFile: MetaCyto_1.29.0.tgz PackageFileSize: 1.111 MiB