Package: MetNet Version: 1.25.0 Command: E:\biocbuild\bbs-3.21-bioc\R\bin\R.exe CMD INSTALL MetNet StartedAt: 2025-02-18 16:05:59 -0500 (Tue, 18 Feb 2025) EndedAt: 2025-02-18 16:06:40 -0500 (Tue, 18 Feb 2025) EllapsedTime: 41.3 seconds RetCode: 0 Status: OK