Package: MetNet Version: 1.25.0 Command: /home/biocbuild/bbs-3.21-bioc/R/bin/R CMD check --install=check:MetNet.install-out.txt --library=/home/biocbuild/bbs-3.21-bioc/R/site-library --timings MetNet_1.25.0.tar.gz StartedAt: 2025-02-19 23:58:16 -0500 (Wed, 19 Feb 2025) EndedAt: 2025-02-20 00:04:26 -0500 (Thu, 20 Feb 2025) EllapsedTime: 370.4 seconds RetCode: 0 Status: OK CheckDir: MetNet.Rcheck Warnings: 0