Package: MetNet Version: 1.25.0 Command: /Library/Frameworks/R.framework/Resources/bin/R CMD build --keep-empty-dirs --no-resave-data MetNet StartedAt: 2025-02-19 16:55:52 -0500 (Wed, 19 Feb 2025) EndedAt: 2025-02-19 16:56:12 -0500 (Wed, 19 Feb 2025) EllapsedTime: 20.2 seconds RetCode: 0 Status: OK PackageFile: MetNet_1.25.0.tar.gz PackageFileSize: 4.095 MiB