Package: MetMashR Version: 1.1.0 Command: chmod a+r MetMashR -R && E:\biocbuild\bbs-3.21-bioc\R\bin\R.exe CMD build --keep-empty-dirs --no-resave-data MetMashR StartedAt: 2025-02-17 19:46:29 -0500 (Mon, 17 Feb 2025) EndedAt: 2025-02-17 19:52:53 -0500 (Mon, 17 Feb 2025) EllapsedTime: 383.4 seconds RetCode: 0 Status: OK PackageFile: MetMashR_1.1.0.tar.gz PackageFileSize: 5.337 MiB