Package: MetMashR Version: 1.1.0 Command: /Library/Frameworks/R.framework/Resources/bin/R CMD INSTALL MetMashR StartedAt: 2025-02-17 15:11:01 -0500 (Mon, 17 Feb 2025) EndedAt: 2025-02-17 15:11:46 -0500 (Mon, 17 Feb 2025) EllapsedTime: 44.9 seconds RetCode: 0 Status: OK