Package: MetMashR Version: 1.1.0 Command: /Library/Frameworks/R.framework/Resources/bin/R CMD check --install=check:MetMashR.install-out.txt --library=/Library/Frameworks/R.framework/Resources/library --no-vignettes --timings MetMashR_1.1.0.tar.gz StartedAt: 2025-02-17 21:29:45 -0500 (Mon, 17 Feb 2025) EndedAt: 2025-02-17 21:33:36 -0500 (Mon, 17 Feb 2025) EllapsedTime: 230.4 seconds RetCode: 0 Status: OK CheckDir: MetMashR.Rcheck Warnings: 0