Package: MetMashR Version: 1.1.0 Command: rm -rf MetMashR.buildbin-libdir && mkdir MetMashR.buildbin-libdir && /Users/biocbuild/BBS/utils/build-universal.sh MetMashR_1.1.0.tar.gz /Library/Frameworks/R.framework/Resources/bin/R MetMashR.buildbin-libdir StartedAt: 2025-02-18 00:33:30 -0500 (Tue, 18 Feb 2025) EndedAt: 2025-02-18 00:34:18 -0500 (Tue, 18 Feb 2025) EllapsedTime: 48.4 seconds RetCode: 0 Status: OK PackageFile: MetMashR_1.1.0.tgz PackageFileSize: 7.026 MiB