Package: MetID Version: 1.25.0 Command: E:\biocbuild\bbs-3.21-bioc\R\bin\R.exe CMD INSTALL MetID StartedAt: 2025-02-19 16:52:38 -0500 (Wed, 19 Feb 2025) EndedAt: 2025-02-19 16:52:57 -0500 (Wed, 19 Feb 2025) EllapsedTime: 19.1 seconds RetCode: 0 Status: OK