Package: MetID Version: 1.25.0 Command: /Library/Frameworks/R.framework/Resources/bin/R CMD INSTALL MetID StartedAt: 2025-02-20 15:26:30 -0500 (Thu, 20 Feb 2025) EndedAt: 2025-02-20 15:26:34 -0500 (Thu, 20 Feb 2025) EllapsedTime: 4.2 seconds RetCode: 0 Status: OK