Package: MetID Version: 1.25.0 Command: /Library/Frameworks/R.framework/Resources/bin/R CMD check --install=check:MetID.install-out.txt --library=/Library/Frameworks/R.framework/Resources/library --no-vignettes --timings MetID_1.25.0.tar.gz StartedAt: 2025-02-19 20:11:11 -0500 (Wed, 19 Feb 2025) EndedAt: 2025-02-19 20:11:44 -0500 (Wed, 19 Feb 2025) EllapsedTime: 33.4 seconds RetCode: 0 Status: OK CheckDir: MetID.Rcheck Warnings: 0