Package: MetID Version: 1.25.0 Command: rm -rf MetID.buildbin-libdir && mkdir MetID.buildbin-libdir && /Users/biocbuild/BBS/utils/build-universal.sh MetID_1.25.0.tar.gz /Library/Frameworks/R.framework/Resources/bin/R MetID.buildbin-libdir StartedAt: 2025-02-20 22:25:27 -0500 (Thu, 20 Feb 2025) EndedAt: 2025-02-20 22:25:33 -0500 (Thu, 20 Feb 2025) EllapsedTime: 6.1 seconds RetCode: 0 Status: OK PackageFile: MetID_1.25.0.tgz PackageFileSize: 1.734 MiB