Package: MesKit Version: 1.17.0 Command: rm -rf MesKit.buildbin-libdir && mkdir MesKit.buildbin-libdir && E:\biocbuild\bbs-3.21-bioc\R\bin\R.exe CMD INSTALL --build --library=MesKit.buildbin-libdir MesKit_1.17.0.tar.gz StartedAt: 2025-02-18 07:42:05 -0500 (Tue, 18 Feb 2025) EndedAt: 2025-02-18 07:42:56 -0500 (Tue, 18 Feb 2025) EllapsedTime: 50.3 seconds RetCode: 0 Status: OK PackageFile: MesKit_1.17.0.zip PackageFileSize: 2.653 MiB