Package: MesKit Version: 1.17.0 Command: /home/biocbuild/bbs-3.21-bioc/R/bin/R CMD INSTALL MesKit StartedAt: 2025-02-17 15:28:55 -0500 (Mon, 17 Feb 2025) EndedAt: 2025-02-17 15:29:16 -0500 (Mon, 17 Feb 2025) EllapsedTime: 20.8 seconds RetCode: 0 Status: OK