Package: MesKit Version: 1.17.0 Command: /Library/Frameworks/R.framework/Resources/bin/R CMD INSTALL MesKit StartedAt: 2025-02-17 15:21:38 -0500 (Mon, 17 Feb 2025) EndedAt: 2025-02-17 15:22:08 -0500 (Mon, 17 Feb 2025) EllapsedTime: 29.8 seconds RetCode: 0 Status: OK