Package: MesKit Version: 1.17.0 Command: /Library/Frameworks/R.framework/Resources/bin/R CMD build --keep-empty-dirs --no-resave-data MesKit StartedAt: 2025-02-17 17:13:42 -0500 (Mon, 17 Feb 2025) EndedAt: 2025-02-17 17:15:19 -0500 (Mon, 17 Feb 2025) EllapsedTime: 97.1 seconds RetCode: 0 Status: OK PackageFile: MesKit_1.17.0.tar.gz PackageFileSize: 4.001 MiB