Package: MesKit Version: 1.17.0 Command: rm -rf MesKit.buildbin-libdir && mkdir MesKit.buildbin-libdir && /Users/biocbuild/BBS/utils/build-universal.sh MesKit_1.17.0.tar.gz /Library/Frameworks/R.framework/Resources/bin/R MesKit.buildbin-libdir StartedAt: 2025-02-18 00:32:46 -0500 (Tue, 18 Feb 2025) EndedAt: 2025-02-18 00:33:20 -0500 (Tue, 18 Feb 2025) EllapsedTime: 33.6 seconds RetCode: 0 Status: OK PackageFile: MesKit_1.17.0.tgz PackageFileSize: 4.126 MiB